Workbook
Name MES: ocult!$C$47:$C$58

Sheet TIEMPO
A7: I | C7: AUTOSEGUIMIENTO del TIEMPO | K7: NOVIEMBRE
D8: TOTAL HASTA HOY | G8: =+TODAY() -> 45932
D9: Días trabajados | G9: =COUNTIF(N13:N43,">0") -> 6 | H9: Horas trabajadas | K9: =SUM(N13:N43) -> 58 | L9: Media | M9: =IF(G9=0,0,K9/G9) -> 9.6666667 | N9: =ocult!$M$43 -> 0.34482759
C10: Media/día dedicada Ventas | G10: =IF(G9=0,0,SUM(L13:L43)/G9) -> 3.3333333 | H10: % Dedicado efectivamente a vender
C11: DÍA | D11: viajes | F11: reuniones | H11: oficina | J11: otras tareas | L11: VENTAS | N11: TOTAL
D12: HORAS | E12: ACUM | F12: HORAS | G12: ACUM | H12: HORAS | I12: ACUM | J12: HORAS | K12: ACUM | L12: HORAS | M12: ACUM | N12: DÍA | O12: ACUM
C13: 1 | E13: =IF(D13=0,0,ocult!E12) -> 0 | F13: 1 | G13: =IF(F13=0,0,ocult!G12) -> 1 | H13: 2 | I13: =IF(H13=0,0,ocult!I12) -> 2 | J13: 1 | K13: =IF(J13=0,0,ocult!K12) -> 1 | L13: 5 | M13: =IF(L13=0,0,ocult!M12) -> 5 | N13: =+L13+J13+H13+F13+D13 -> 9 | O13: =IF(N13=0,0,ocult!O12) -> 9 | R13: =IF(N13>12,"¿Has trabajado más de 12 horas?",0) -> 0
C14: 2 | D14: 3 | E14: =IF(D14=0,0,ocult!E13) -> 3 | F14: 1 | G14: =IF(F14=0,0,ocult!G13) -> 2 | H14: 2 | I14: =IF(H14=0,0,ocult!I13) -> 4 | J14: 1 | K14: =IF(J14=0,0,ocult!K13) -> 2 | L14: 4 | M14: =IF(L14=0,0,ocult!M13) -> 9 | N14: =+L14+J14+H14+F14+D14 -> 11 | O14: =IF(N14=0,0,ocult!O13) -> 20 | R14: =IF(N14>12,"¿Has trabajado más de 12 horas?",0) -> 0
C15: 3 | D15: 3 | E15: =IF(D15=0,0,ocult!E14) -> 6 | F15: 1 | G15: =IF(F15=0,0,ocult!G14) -> 3 | H15: 2 | I15: =IF(H15=0,0,ocult!I14) -> 6 | J15: 1 | K15: =IF(J15=0,0,ocult!K14) -> 3 | L15: 2 | M15: =IF(L15=0,0,ocult!M14) -> 11 | N15: =+L15+J15+H15+F15+D15 -> 9 | O15: =IF(N15=0,0,ocult!O14) -> 29 | R15: =IF(N15>12,"¿Has trabajado más de 12 horas?",0) -> 0
C16: 4 | E16: =IF(D16=0,0,ocult!E15) -> 0 | F16: 1 | G16: =IF(F16=0,0,ocult!G15) -> 4 | H16: 2 | I16: =IF(H16=0,0,ocult!I15) -> 8 | J16: 3 | K16: =IF(J16=0,0,ocult!K15) -> 6 | L16: 4 | M16: =IF(L16=0,0,ocult!M15) -> 15 | N16: =+L16+J16+H16+F16+D16 -> 10 | O16: =IF(N16=0,0,ocult!O15) -> 39 | R16: =IF(N16>12,"¿Has trabajado más de 12 horas?",0) -> 0
C17: 5 | D17: 3 | E17: =IF(D17=0,0,ocult!E16) -> 9 | F17: 1 | G17: =IF(F17=0,0,ocult!G16) -> 5 | H17: 2 | I17: =IF(H17=0,0,ocult!I16) -> 10 | J17: 1 | K17: =IF(J17=0,0,ocult!K16) -> 7 | L17: 2 | M17: =IF(L17=0,0,ocult!M16) -> 17 | N17: =+L17+J17+H17+F17+D17 -> 9 | O17: =IF(N17=0,0,ocult!O16) -> 48 | R17: =IF(N17>12,"¿Has trabajado más de 12 horas?",0) -> 0
C18: 6 | D18: 3 | E18: =IF(D18=0,0,ocult!E17) -> 12 | F18: 1 | G18: =IF(F18=0,0,ocult!G17) -> 6 | H18: 2 | I18: =IF(H18=0,0,ocult!I17) -> 12 | J18: 1 | K18: =IF(J18=0,0,ocult!K17) -> 8 | L18: 3 | M18: =IF(L18=0,0,ocult!M17) -> 20 | N18: =+L18+J18+H18+F18+D18 -> 10 | O18: =IF(N18=0,0,ocult!O17) -> 58 | R18: =IF(N18>12,"¿Has trabajado más de 12 horas?",0) -> 0
C19: 7 | E19: =IF(D19=0,0,ocult!E18) -> 0 | G19: =IF(F19=0,0,ocult!G18) -> 0 | I19: =IF(H19=0,0,ocult!I18) -> 0 | K19: =IF(J19=0,0,ocult!K18) -> 0 | M19: =IF(L19=0,0,ocult!M18) -> 0 | N19: =+L19+J19+H19+F19+D19 -> 0 | O19: =IF(N19=0,0,ocult!O18) -> 0 | R19: =IF(N19>12,"¿Has trabajado más de 12 horas?",0) -> 0
C20: 8 | E20: =IF(D20=0,0,ocult!E19) -> 0 | G20: =IF(F20=0,0,ocult!G19) -> 0 | I20: =IF(H20=0,0,ocult!I19) -> 0 | K20: =IF(J20=0,0,ocult!K19) -> 0 | M20: =IF(L20=0,0,ocult!M19) -> 0 | N20: =+L20+J20+H20+F20+D20 -> 0 | O20: =IF(N20=0,0,ocult!O19) -> 0 | R20: =IF(N20>12,"¿Has trabajado más de 12 horas?",0) -> 0
C21: 9 | E21: =IF(D21=0,0,ocult!E20) -> 0 | G21: =IF(F21=0,0,ocult!G20) -> 0 | I21: =IF(H21=0,0,ocult!I20) -> 0 | K21: =IF(J21=0,0,ocult!K20) -> 0 | M21: =IF(L21=0,0,ocult!M20) -> 0 | N21: =+L21+J21+H21+F21+D21 -> 0 | O21: =IF(N21=0,0,ocult!O20) -> 0 | R21: =IF(N21>12,"¿Has trabajado más de 12 horas?",0) -> 0
C22: 10 | E22: =IF(D22=0,0,ocult!E21) -> 0 | G22: =IF(F22=0,0,ocult!G21) -> 0 | I22: =IF(H22=0,0,ocult!I21) -> 0 | K22: =IF(J22=0,0,ocult!K21) -> 0 | M22: =IF(L22=0,0,ocult!M21) -> 0 | N22: =+L22+J22+H22+F22+D22 -> 0 | O22: =IF(N22=0,0,ocult!O21) -> 0 | R22: =IF(N22>12,"¿Has trabajado más de 12 horas?",0) -> 0
C23: 11 | E23: =IF(D23=0,0,ocult!E22) -> 0 | G23: =IF(F23=0,0,ocult!G22) -> 0 | I23: =IF(H23=0,0,ocult!I22) -> 0 | K23: =IF(J23=0,0,ocult!K22) -> 0 | M23: =IF(L23=0,0,ocult!M22) -> 0 | N23: =+L23+J23+H23+F23+D23 -> 0 | O23: =IF(N23=0,0,ocult!O22) -> 0 | R23: =IF(N23>12,"¿Has trabajado más de 12 horas?",0) -> 0
C24: 12 | E24: =IF(D24=0,0,ocult!E23) -> 0 | G24: =IF(F24=0,0,ocult!G23) -> 0 | I24: =IF(H24=0,0,ocult!I23) -> 0 | K24: =IF(J24=0,0,ocult!K23) -> 0 | M24: =IF(L24=0,0,ocult!M23) -> 0 | N24: =+L24+J24+H24+F24+D24 -> 0 | O24: =IF(N24=0,0,ocult!O23) -> 0 | R24: =IF(N24>12,"¿Has trabajado más de 12 horas?",0) -> 0
C25: 13 | E25: =IF(D25=0,0,ocult!E24) -> 0 | G25: =IF(F25=0,0,ocult!G24) -> 0 | I25: =IF(H25=0,0,ocult!I24) -> 0 | K25: =IF(J25=0,0,ocult!K24) -> 0 | M25: =IF(L25=0,0,ocult!M24) -> 0 | N25: =+L25+J25+H25+F25+D25 -> 0 | O25: =IF(N25=0,0,ocult!O24) -> 0 | R25: =IF(N25>12,"¿Has trabajado más de 12 horas?",0) -> 0
C26: 14 | E26: =IF(D26=0,0,ocult!E25) -> 0 | G26: =IF(F26=0,0,ocult!G25) -> 0 | I26: =IF(H26=0,0,ocult!I25) -> 0 | K26: =IF(J26=0,0,ocult!K25) -> 0 | M26: =IF(L26=0,0,ocult!M25) -> 0 | N26: =+L26+J26+H26+F26+D26 -> 0 | O26: =IF(N26=0,0,ocult!O25) -> 0 | R26: =IF(N26>12,"¿Has trabajado más de 12 horas?",0) -> 0
C27: 15 | E27: =IF(D27=0,0,ocult!E26) -> 0 | G27: =IF(F27=0,0,ocult!G26) -> 0 | I27: =IF(H27=0,0,ocult!I26) -> 0 | K27: =IF(J27=0,0,ocult!K26) -> 0 | M27: =IF(L27=0,0,ocult!M26) -> 0 | N27: =+L27+J27+H27+F27+D27 -> 0 | O27: =IF(N27=0,0,ocult!O26) -> 0 | R27: =IF(N27>12,"¿Has trabajado más de 12 horas?",0) -> 0
C28: 16 | E28: =IF(D28=0,0,ocult!E27) -> 0 | G28: =IF(F28=0,0,ocult!G27) -> 0 | I28: =IF(H28=0,0,ocult!I27) -> 0 | K28: =IF(J28=0,0,ocult!K27) -> 0 | M28: =IF(L28=0,0,ocult!M27) -> 0 | N28: =+L28+J28+H28+F28+D28 -> 0 | O28: =IF(N28=0,0,ocult!O27) -> 0 | R28: =IF(N28>12,"¿Has trabajado más de 12 horas?",0) -> 0
C29: 17 | E29: =IF(D29=0,0,ocult!E28) -> 0 | G29: =IF(F29=0,0,ocult!G28) -> 0 | I29: =IF(H29=0,0,ocult!I28) -> 0 | K29: =IF(J29=0,0,ocult!K28) -> 0 | M29: =IF(L29=0,0,ocult!M28) -> 0 | N29: =+L29+J29+H29+F29+D29 -> 0 | O29: =IF(N29=0,0,ocult!O28) -> 0 | R29: =IF(N29>12,"¿Has trabajado más de 12 horas?",0) -> 0
C30: 18 | E30: =IF(D30=0,0,ocult!E29) -> 0 | G30: =IF(F30=0,0,ocult!G29) -> 0 | I30: =IF(H30=0,0,ocult!I29) -> 0 | K30: =IF(J30=0,0,ocult!K29) -> 0 | M30: =IF(L30=0,0,ocult!M29) -> 0 | N30: =+L30+J30+H30+F30+D30 -> 0 | O30: =IF(N30=0,0,ocult!O29) -> 0 | R30: =IF(N30>12,"¿Has trabajado más de 12 horas?",0) -> 0
... C43: 31 | E43: =IF(D43=0,0,ocult!E42) -> 0 | G43: =IF(F43=0,0,ocult!G42) -> 0 | I43: =IF(H43=0,0,ocult!I42) -> 0 | K43: =IF(J43=0,0,ocult!K42) -> 0 | M43: =IF(L43=0,0,ocult!M42) -> 0 | N43: =+L43+J43+H43+F43+D43 -> 0 | O43: =IF(N43=0,0,ocult!O42) -> 0 | R43: =IF(N43>12,"¿Has trabajado más de 12 horas?",0) -> 0
C44: total | D44: =+ocult!D43 -> 12 | E44: =+ocult!E43 -> 0.20689655 | F44: =+ocult!F43 -> 6 | G44: =+ocult!G43 -> 0.10344828 | H44: =+ocult!H43 -> 12 | I44: =+ocult!I43 -> 0.20689655 | J44: =+ocult!J43 -> 8 | K44: =+ocult!K43 -> 0.13793103 | ... M44: =+ocult!M43 -> 0.34482759
E48: Tiempo dedicado
A50: G | E50: =+D11 -> viajes | G50: =+F11 -> reuniones | I50: =+H11 -> oficina | K50: =+J11 -> otras tareas | M50: =+L11 -> VENTAS
F52: =IF($E$44>=Q53,7,0) -> 0 | H52: =IF(G$44>=$Q53,7,0) -> 0 | J52: =IF(I$44>=$Q53,7,0) -> 0 | L52: =IF(K$44>=$Q53,7,0) -> 0 | N52: =IF(M$44>=$Q53,7,0) -> 0
F53: =IF($E$44>=Q54,7,0) -> 0 | H53: =IF(G$44>=$Q54,7,0) -> 0 | J53: =IF(I$44>=$Q54,7,0) -> 0 | L53: =IF(K$44>=$Q54,7,0) -> 0 | N53: =IF(M$44>=$Q54,7,0) -> 0 | Q53: =+Q54+1% -> 1
F54: =IF($E$44>=Q55,7,0) -> 0 | H54: =IF(G$44>=$Q55,7,0) -> 0 | J54: =IF(I$44>=$Q55,7,0) -> 0 | L54: =IF(K$44>=$Q55,7,0) -> 0 | N54: =IF(M$44>=$Q55,7,0) -> 0 | Q54: =+Q55+1% -> 0.99
F55: =IF($E$44>=Q56,7,0) -> 0 | H55: =IF(G$44>=$Q56,7,0) -> 0 | J55: =IF(I$44>=$Q56,7,0) -> 0 | L55: =IF(K$44>=$Q56,7,0) -> 0 | N55: =IF(M$44>=$Q56,7,0) -> 0 | Q55: =+Q56+1% -> 0.98
F56: =IF($E$44>=Q57,7,0) -> 0 | H56: =IF(G$44>=$Q57,7,0) -> 0 | J56: =IF(I$44>=$Q57,7,0) -> 0 | L56: =IF(K$44>=$Q57,7,0) -> 0 | N56: =IF(M$44>=$Q57,7,0) -> 0 | Q56: =+Q57+1% -> 0.97
F57: =IF($E$44>=Q58,7,0) -> 0 | H57: =IF(G$44>=$Q58,7,0) -> 0 | J57: =IF(I$44>=$Q58,7,0) -> 0 | L57: =IF(K$44>=$Q58,7,0) -> 0 | N57: =IF(M$44>=$Q58,7,0) -> 0 | Q57: =+Q58+1% -> 0.96
F58: =IF($E$44>=Q59,7,0) -> 0 | H58: =IF(G$44>=$Q59,7,0) -> 0 | J58: =IF(I$44>=$Q59,7,0) -> 0 | L58: =IF(K$44>=$Q59,7,0) -> 0 | N58: =IF(M$44>=$Q59,7,0) -> 0 | Q58: =+Q59+1% -> 0.95
F59: =IF($E$44>=Q60,7,0) -> 0 | H59: =IF(G$44>=$Q60,7,0) -> 0 | J59: =IF(I$44>=$Q60,7,0) -> 0 | L59: =IF(K$44>=$Q60,7,0) -> 0 | N59: =IF(M$44>=$Q60,7,0) -> 0 | Q59: =+Q60+1% -> 0.94
F60: =IF($E$44>=Q61,7,0) -> 0 | H60: =IF(G$44>=$Q61,7,0) -> 0 | J60: =IF(I$44>=$Q61,7,0) -> 0 | L60: =IF(K$44>=$Q61,7,0) -> 0 | N60: =IF(M$44>=$Q61,7,0) -> 0 | Q60: =+Q61+1% -> 0.93
F61: =IF($E$44>=Q62,7,0) -> 0 | H61: =IF(G$44>=$Q62,7,0) -> 0 | J61: =IF(I$44>=$Q62,7,0) -> 0 | L61: =IF(K$44>=$Q62,7,0) -> 0 | N61: =IF(M$44>=$Q62,7,0) -> 0 | Q61: =+Q62+1% -> 0.92
F62: =IF($E$44>=Q63,7,0) -> 0 | H62: =IF(G$44>=$Q63,7,0) -> 0 | J62: =IF(I$44>=$Q63,7,0) -> 0 | L62: =IF(K$44>=$Q63,7,0) -> 0 | N62: =IF(M$44>=$Q63,7,0) -> 0 | Q62: =+Q63+1% -> 0.91
F63: =IF($E$44>=Q64,7,0) -> 0 | H63: =IF(G$44>=$Q64,7,0) -> 0 | J63: =IF(I$44>=$Q64,7,0) -> 0 | L63: =IF(K$44>=$Q64,7,0) -> 0 | N63: =IF(M$44>=$Q64,7,0) -> 0 | Q63: =+Q64+1% -> 0.9
F64: =IF($E$44>=Q65,7,0) -> 0 | H64: =IF(G$44>=$Q65,7,0) -> 0 | J64: =IF(I$44>=$Q65,7,0) -> 0 | L64: =IF(K$44>=$Q65,7,0) -> 0 | N64: =IF(M$44>=$Q65,7,0) -> 0 | Q64: =+Q65+1% -> 0.89
... F71: =IF($E$44>=Q72,7,0) -> 0 | H71: =IF(G$44>=$Q72,7,0) -> 0 | J71: =IF(I$44>=$Q72,7,0) -> 0 | L71: =IF(K$44>=$Q72,7,0) -> 0 | N71: =IF(M$44>=$Q72,7,0) -> 0 | Q71: =+Q72+1% -> 0.82
F72: =IF($E$44>=Q73,6,0) -> 0 | H72: =IF(G$44>=$Q73,6,0) -> 0 | J72: =IF(I$44>=$Q73,6,0) -> 0 | L72: =IF(K$44>=$Q73,6,0) -> 0 | N72: =IF(M$44>=$Q73,6,0) -> 0 | Q72: =+Q73+1% -> 0.81
F73: =IF($E$44>=Q74,6,0) -> 0 | H73: =IF(G$44>=$Q74,6,0) -> 0 | J73: =IF(I$44>=$Q74,6,0) -> 0 | L73: =IF(K$44>=$Q74,6,0) -> 0 | N73: =IF(M$44>=$Q74,6,0) -> 0 | Q73: =+Q74+1% -> 0.8
F74: =IF($E$44>=Q75,6,0) -> 0 | H74: =IF(G$44>=$Q75,6,0) -> 0 | J74: =IF(I$44>=$Q75,6,0) -> 0 | L74: =IF(K$44>=$Q75,6,0) -> 0 | N74: =IF(M$44>=$Q75,6,0) -> 0 | Q74: =+Q75+1% -> 0.79
F75: =IF($E$44>=Q76,6,0) -> 0 | H75: =IF(G$44>=$Q76,6,0) -> 0 | J75: =IF(I$44>=$Q76,6,0) -> 0 | L75: =IF(K$44>=$Q76,6,0) -> 0 | N75: =IF(M$44>=$Q76,6,0) -> 0 | Q75: =+Q76+1% -> 0.78
F76: =IF($E$44>=Q77,6,0) -> 0 | H76: =IF(G$44>=$Q77,6,0) -> 0 | J76: =IF(I$44>=$Q77,6,0) -> 0 | L76: =IF(K$44>=$Q77,6,0) -> 0 | N76: =IF(M$44>=$Q77,6,0) -> 0 | Q76: =+Q77+1% -> 0.77
F77: =IF($E$44>=Q78,6,0) -> 0 | H77: =IF(G$44>=$Q78,6,0) -> 0 | J77: =IF(I$44>=$Q78,6,0) -> 0 | L77: =IF(K$44>=$Q78,6,0) -> 0 | N77: =IF(M$44>=$Q78,6,0) -> 0 | Q77: =+Q78+1% -> 0.76
F78: =IF($E$44>=Q79,6,0) -> 0 | H78: =IF(G$44>=$Q79,6,0) -> 0 | J78: =IF(I$44>=$Q79,6,0) -> 0 | L78: =IF(K$44>=$Q79,6,0) -> 0 | N78: =IF(M$44>=$Q79,6,0) -> 0 | Q78: =+Q79+1% -> 0.75
F79: =IF($E$44>=Q80,6,0) -> 0 | H79: =IF(G$44>=$Q80,6,0) -> 0 | J79: =IF(I$44>=$Q80,6,0) -> 0 | L79: =IF(K$44>=$Q80,6,0) -> 0 | N79: =IF(M$44>=$Q80,6,0) -> 0 | Q79: =+Q80+1% -> 0.74
F80: =IF($E$44>=Q81,6,0) -> 0 | H80: =IF(G$44>=$Q81,6,0) -> 0 | J80: =IF(I$44>=$Q81,6,0) -> 0 | L80: =IF(K$44>=$Q81,6,0) -> 0 | N80: =IF(M$44>=$Q81,6,0) -> 0 | Q80: =+Q81+1% -> 0.73
F81: =IF($E$44>=Q82,6,0) -> 0 | H81: =IF(G$44>=$Q82,6,0) -> 0 | J81: =IF(I$44>=$Q82,6,0) -> 0 | L81: =IF(K$44>=$Q82,6,0) -> 0 | N81: =IF(M$44>=$Q82,6,0) -> 0 | Q81: =+Q82+1% -> 0.72
F82: =IF($E$44>=Q83,5,0) -> 0 | H82: =IF(G$44>=$Q83,5,0) -> 0 | J82: =IF(I$44>=$Q83,5,0) -> 0 | L82: =IF(K$44>=$Q83,5,0) -> 0 | N82: =IF(M$44>=$Q83,5,0) -> 0 | Q82: =+Q83+1% -> 0.71
F83: =IF($E$44>=Q84,5,0) -> 0 | H83: =IF(G$44>=$Q84,5,0) -> 0 | J83: =IF(I$44>=$Q84,5,0) -> 0 | L83: =IF(K$44>=$Q84,5,0) -> 0 | N83: =IF(M$44>=$Q84,5,0) -> 0 | Q83: =+Q84+1% -> 0.7
F84: =IF($E$44>=Q85,5,0) -> 0 | H84: =IF(G$44>=$Q85,5,0) -> 0 | J84: =IF(I$44>=$Q85,5,0) -> 0 | L84: =IF(K$44>=$Q85,5,0) -> 0 | N84: =IF(M$44>=$Q85,5,0) -> 0 | Q84: =+Q85+1% -> 0.69
F85: =IF($E$44>=Q86,5,0) -> 0 | H85: =IF(G$44>=$Q86,5,0) -> 0 | J85: =IF(I$44>=$Q86,5,0) -> 0 | L85: =IF(K$44>=$Q86,5,0) -> 0 | N85: =IF(M$44>=$Q86,5,0) -> 0 | Q85: =+Q86+1% -> 0.68
F86: =IF($E$44>=Q87,5,0) -> 0 | H86: =IF(G$44>=$Q87,5,0) -> 0 | J86: =IF(I$44>=$Q87,5,0) -> 0 | L86: =IF(K$44>=$Q87,5,0) -> 0 | N86: =IF(M$44>=$Q87,5,0) -> 0 | Q86: =+Q87+1% -> 0.67
F87: =IF($E$44>=Q88,5,0) -> 0 | H87: =IF(G$44>=$Q88,5,0) -> 0 | J87: =IF(I$44>=$Q88,5,0) -> 0 | L87: =IF(K$44>=$Q88,5,0) -> 0 | N87: =IF(M$44>=$Q88,5,0) -> 0 | Q87: =+Q88+1% -> 0.66
F88: =IF($E$44>=Q89,5,0) -> 0 | H88: =IF(G$44>=$Q89,5,0) -> 0 | J88: =IF(I$44>=$Q89,5,0) -> 0 | L88: =IF(K$44>=$Q89,5,0) -> 0 | N88: =IF(M$44>=$Q89,5,0) -> 0 | Q88: =+Q89+1% -> 0.65
F89: =IF($E$44>=Q90,5,0) -> 0 | H89: =IF(G$44>=$Q90,5,0) -> 0 | J89: =IF(I$44>=$Q90,5,0) -> 0 | L89: =IF(K$44>=$Q90,5,0) -> 0 | N89: =IF(M$44>=$Q90,5,0) -> 0 | Q89: =+Q90+1% -> 0.64
F90: =IF($E$44>=Q91,5,0) -> 0 | H90: =IF(G$44>=$Q91,5,0) -> 0 | J90: =IF(I$44>=$Q91,5,0) -> 0 | L90: =IF(K$44>=$Q91,5,0) -> 0 | N90: =IF(M$44>=$Q91,5,0) -> 0 | Q90: =+Q91+1% -> 0.63
F91: =IF($E$44>=Q92,5,0) -> 0 | H91: =IF(G$44>=$Q92,5,0) -> 0 | J91: =IF(I$44>=$Q92,5,0) -> 0 | L91: =IF(K$44>=$Q92,5,0) -> 0 | N91: =IF(M$44>=$Q92,5,0) -> 0 | Q91: =+Q92+1% -> 0.62
F92: =IF($E$44>=Q93,4,0) -> 0 | H92: =IF(G$44>=$Q93,4,0) -> 0 | J92: =IF(I$44>=$Q93,4,0) -> 0 | L92: =IF(K$44>=$Q93,4,0) -> 0 | N92: =IF(M$44>=$Q93,4,0) -> 0 | Q92: =+Q93+1% -> 0.61
F93: =IF($E$44>=Q94,4,0) -> 0 | H93: =IF(G$44>=$Q94,4,0) -> 0 | J93: =IF(I$44>=$Q94,4,0) -> 0 | L93: =IF(K$44>=$Q94,4,0) -> 0 | N93: =IF(M$44>=$Q94,4,0) -> 0 | Q93: =+Q94+1% -> 0.6
F94: =IF($E$44>=Q95,4,0) -> 0 | H94: =IF(G$44>=$Q95,4,0) -> 0 | J94: =IF(I$44>=$Q95,4,0) -> 0 | L94: =IF(K$44>=$Q95,4,0) -> 0 | N94: =IF(M$44>=$Q95,4,0) -> 0 | Q94: =+Q95+1% -> 0.59
F95: =IF($E$44>=Q96,4,0) -> 0 | H95: =IF(G$44>=$Q96,4,0) -> 0 | J95: =IF(I$44>=$Q96,4,0) -> 0 | L95: =IF(K$44>=$Q96,4,0) -> 0 | N95: =IF(M$44>=$Q96,4,0) -> 0 | Q95: =+Q96+1% -> 0.58
F96: =IF($E$44>=Q97,4,0) -> 0 | H96: =IF(G$44>=$Q97,4,0) -> 0 | J96: =IF(I$44>=$Q97,4,0) -> 0 | L96: =IF(K$44>=$Q97,4,0) -> 0 | N96: =IF(M$44>=$Q97,4,0) -> 0 | Q96: =+Q97+1% -> 0.57
F97: =IF($E$44>=Q98,4,0) -> 0 | H97: =IF(G$44>=$Q98,4,0) -> 0 | J97: =IF(I$44>=$Q98,4,0) -> 0 | L97: =IF(K$44>=$Q98,4,0) -> 0 | N97: =IF(M$44>=$Q98,4,0) -> 0 | Q97: =+Q98+1% -> 0.56
F98: =IF($E$44>=Q99,4,0) -> 0 | H98: =IF(G$44>=$Q99,4,0) -> 0 | J98: =IF(I$44>=$Q99,4,0) -> 0 | L98: =IF(K$44>=$Q99,4,0) -> 0 | N98: =IF(M$44>=$Q99,4,0) -> 0 | Q98: =+Q99+1% -> 0.55
F99: =IF($E$44>=Q100,4,0) -> 0 | H99: =IF(G$44>=$Q100,4,0) -> 0 | J99: =IF(I$44>=$Q100,4,0) -> 0 | L99: =IF(K$44>=$Q100,4,0) -> 0 | N99: =IF(M$44>=$Q100,4,0) -> 0 | Q99: =+Q100+1% -> 0.54
F100: =IF($E$44>=Q101,4,0) -> 0 | H100: =IF(G$44>=$Q101,4,0) -> 0 | J100: =IF(I$44>=$Q101,4,0) -> 0 | L100: =IF(K$44>=$Q101,4,0) -> 0 | N100: =IF(M$44>=$Q101,4,0) -> 0 | Q100: =+Q101+1% -> 0.53
F101: =IF($E$44>=Q102,4,0) -> 0 | H101: =IF(G$44>=$Q102,4,0) -> 0 | J101: =IF(I$44>=$Q102,4,0) -> 0 | L101: =IF(K$44>=$Q102,4,0) -> 0 | N101: =IF(M$44>=$Q102,4,0) -> 0 | Q101: =+Q102+1% -> 0.52
F102: =IF($E$44>=$Q103,3,0) -> 0 | H102: =IF(G$44>=$Q103,3,0) -> 0 | J102: =IF(I$44>=$Q103,3,0) -> 0 | L102: =IF(K$44>=$Q103,3,0) -> 0 | N102: =IF(M$44>=$Q103,3,0) -> 0 | Q102: =+Q103+1% -> 0.51
F103: =IF($E$44>=$Q104,3,0) -> 0 | H103: =IF(G$44>=$Q104,3,0) -> 0 | J103: =IF(I$44>=$Q104,3,0) -> 0 | L103: =IF(K$44>=$Q104,3,0) -> 0 | N103: =IF(M$44>=$Q104,3,0) -> 0 | Q103: =+Q104+1% -> 0.5
F104: =IF($E$44>=$Q105,3,0) -> 0 | H104: =IF(G$44>=$Q105,3,0) -> 0 | J104: =IF(I$44>=$Q105,3,0) -> 0 | L104: =IF(K$44>=$Q105,3,0) -> 0 | N104: =IF(M$44>=$Q105,3,0) -> 0 | Q104: =+Q105+1% -> 0.49
F105: =IF($E$44>=$Q106,3,0) -> 0 | H105: =IF(G$44>=$Q106,3,0) -> 0 | J105: =IF(I$44>=$Q106,3,0) -> 0 | L105: =IF(K$44>=$Q106,3,0) -> 0 | N105: =IF(M$44>=$Q106,3,0) -> 0 | Q105: =+Q106+1% -> 0.48
F106: =IF($E$44>=$Q107,3,0) -> 0 | H106: =IF(G$44>=$Q107,3,0) -> 0 | J106: =IF(I$44>=$Q107,3,0) -> 0 | L106: =IF(K$44>=$Q107,3,0) -> 0 | N106: =IF(M$44>=$Q107,3,0) -> 0 | Q106: =+Q107+1% -> 0.47
F107: =IF($E$44>=$Q108,3,0) -> 0 | H107: =IF(G$44>=$Q108,3,0) -> 0 | J107: =IF(I$44>=$Q108,3,0) -> 0 | L107: =IF(K$44>=$Q108,3,0) -> 0 | N107: =IF(M$44>=$Q108,3,0) -> 0 | Q107: =+Q108+1% -> 0.46
F108: =IF($E$44>=$Q109,3,0) -> 0 | H108: =IF(G$44>=$Q109,3,0) -> 0 | J108: =IF(I$44>=$Q109,3,0) -> 0 | L108: =IF(K$44>=$Q109,3,0) -> 0 | N108: =IF(M$44>=$Q109,3,0) -> 0 | Q108: =+Q109+1% -> 0.45
F109: =IF($E$44>=$Q110,3,0) -> 0 | H109: =IF(G$44>=$Q110,3,0) -> 0 | J109: =IF(I$44>=$Q110,3,0) -> 0 | L109: =IF(K$44>=$Q110,3,0) -> 0 | N109: =IF(M$44>=$Q110,3,0) -> 0 | Q109: =+Q110+1% -> 0.44
F110: =IF($E$44>=$Q111,3,0) -> 0 | H110: =IF(G$44>=$Q111,3,0) -> 0 | J110: =IF(I$44>=$Q111,3,0) -> 0 | L110: =IF(K$44>=$Q111,3,0) -> 0 | N110: =IF(M$44>=$Q111,3,0) -> 0 | Q110: =+Q111+1% -> 0.43
F111: =IF($E$44>=$Q112,3,0) -> 0 | H111: =IF(G$44>=$Q112,3,0) -> 0 | J111: =IF(I$44>=$Q112,3,0) -> 0 | L111: =IF(K$44>=$Q112,3,0) -> 0 | N111: =IF(M$44>=$Q112,3,0) -> 0 | Q111: =+Q112+1% -> 0.42
F112: =IF($E$44>=$Q113,2,0) -> 0 | H112: =IF($G$44>=$Q113,2,0) -> 0 | J112: =IF(I$44>=$Q113,2,0) -> 0 | L112: =IF(K$44>=$Q113,2,0) -> 0 | N112: =IF(M$44>=$Q113,2,0) -> 0 | Q112: =+Q113+1% -> 0.41
F113: =IF($E$44>=$Q114,2,0) -> 0 | H113: =IF($G$44>=$Q114,2,0) -> 0 | J113: =IF(I$44>=$Q114,2,0) -> 0 | L113: =IF(K$44>=$Q114,2,0) -> 0 | N113: =IF(M$44>=$Q114,2,0) -> 0 | Q113: =+Q114+1% -> 0.4
F114: =IF($E$44>=$Q115,2,0) -> 0 | H114: =IF($G$44>=$Q115,2,0) -> 0 | J114: =IF(I$44>=$Q115,2,0) -> 0 | L114: =IF(K$44>=$Q115,2,0) -> 0 | N114: =IF(M$44>=$Q115,2,0) -> 0 | Q114: =+Q115+1% -> 0.39
F115: =IF($E$44>=$Q116,2,0) -> 0 | H115: =IF($G$44>=$Q116,2,0) -> 0 | J115: =IF(I$44>=$Q116,2,0) -> 0 | L115: =IF(K$44>=$Q116,2,0) -> 0 | N115: =IF(M$44>=$Q116,2,0) -> 0 | Q115: =+Q116+1% -> 0.38
F116: =IF($E$44>=$Q117,2,0) -> 0 | H116: =IF($G$44>=$Q117,2,0) -> 0 | J116: =IF(I$44>=$Q117,2,0) -> 0 | L116: =IF(K$44>=$Q117,2,0) -> 0 | N116: =IF(M$44>=$Q117,2,0) -> 0 | Q116: =+Q117+1% -> 0.37
F117: =IF($E$44>=$Q118,2,0) -> 0 | H117: =IF($G$44>=$Q118,2,0) -> 0 | J117: =IF(I$44>=$Q118,2,0) -> 0 | L117: =IF(K$44>=$Q118,2,0) -> 0 | N117: =IF(M$44>=$Q118,2,0) -> 0 | Q117: =+Q118+1% -> 0.36
F118: =IF($E$44>=$Q119,2,0) -> 0 | H118: =IF($G$44>=$Q119,2,0) -> 0 | J118: =IF(I$44>=$Q119,2,0) -> 0 | L118: =IF(K$44>=$Q119,2,0) -> 0 | N118: =IF(M$44>=$Q119,2,0) -> 2 | Q118: =+Q119+1% -> 0.35
F119: =IF($E$44>=$Q120,2,0) -> 0 | H119: =IF($G$44>=$Q120,2,0) -> 0 | J119: =IF(I$44>=$Q120,2,0) -> 0 | L119: =IF(K$44>=$Q120,2,0) -> 0 | N119: =IF(M$44>=$Q120,2,0) -> 2 | Q119: =+Q120+1% -> 0.34
F120: =IF($E$44>=$Q121,2,0) -> 0 | H120: =IF($G$44>=$Q121,2,0) -> 0 | J120: =IF(I$44>=$Q121,2,0) -> 0 | L120: =IF(K$44>=$Q121,2,0) -> 0 | N120: =IF(M$44>=$Q121,2,0) -> 2 | Q120: =+Q121+1% -> 0.33
F121: =IF($E$44>=$Q122,2,0) -> 0 | H121: =IF($G$44>=$Q122,2,0) -> 0 | J121: =IF(I$44>=$Q122,2,0) -> 0 | L121: =IF(K$44>=$Q122,2,0) -> 0 | N121: =IF(M$44>=$Q122,2,0) -> 2 | Q121: =+Q122+1% -> 0.32
F122: =IF($E$44>=Q123,1,0) -> 0 | H122: =IF(G$44>=$Q123,1,0) -> 0 | J122: =IF(I$44>=$Q123,1,0) -> 0 | L122: =IF(K$44>=$Q123,1,0) -> 0 | N122: =IF(M$44>=$Q123,1,0) -> 1 | Q122: =+Q123+1% -> 0.31
F123: =IF($E$44>=Q124,1,0) -> 0 | H123: =IF(G$44>=$Q124,1,0) -> 0 | J123: =IF(I$44>=$Q124,1,0) -> 0 | L123: =IF(K$44>=$Q124,1,0) -> 0 | N123: =IF(M$44>=$Q124,1,0) -> 1 | Q123: =+Q124+1% -> 0.3
F124: =IF($E$44>=Q125,1,0) -> 0 | H124: =IF(G$44>=$Q125,1,0) -> 0 | J124: =IF(I$44>=$Q125,1,0) -> 0 | L124: =IF(K$44>=$Q125,1,0) -> 0 | N124: =IF(M$44>=$Q125,1,0) -> 1 | Q124: =+Q125+1% -> 0.29
F125: =IF($E$44>=Q126,1,0) -> 0 | H125: =IF(G$44>=$Q126,1,0) -> 0 | J125: =IF(I$44>=$Q126,1,0) -> 0 | L125: =IF(K$44>=$Q126,1,0) -> 0 | N125: =IF(M$44>=$Q126,1,0) -> 1 | Q125: =+Q126+1% -> 0.28
F126: =IF($E$44>=Q127,1,0) -> 0 | H126: =IF(G$44>=$Q127,1,0) -> 0 | J126: =IF(I$44>=$Q127,1,0) -> 0 | L126: =IF(K$44>=$Q127,1,0) -> 0 | N126: =IF(M$44>=$Q127,1,0) -> 1 | Q126: =+Q127+1% -> 0.27
F127: =IF($E$44>=Q128,1,0) -> 0 | H127: =IF(G$44>=$Q128,1,0) -> 0 | J127: =IF(I$44>=$Q128,1,0) -> 0 | L127: =IF(K$44>=$Q128,1,0) -> 0 | N127: =IF(M$44>=$Q128,1,0) -> 1 | Q127: =+Q128+1% -> 0.26
F128: =IF($E$44>=Q129,1,0) -> 0 | H128: =IF(G$44>=$Q129,1,0) -> 0 | J128: =IF(I$44>=$Q129,1,0) -> 0 | L128: =IF(K$44>=$Q129,1,0) -> 0 | N128: =IF(M$44>=$Q129,1,0) -> 1 | Q128: =+Q129+1% -> 0.25
F129: =IF($E$44>=Q130,1,0) -> 0 | H129: =IF(G$44>=$Q130,1,0) -> 0 | J129: =IF(I$44>=$Q130,1,0) -> 0 | L129: =IF(K$44>=$Q130,1,0) -> 0 | N129: =IF(M$44>=$Q130,1,0) -> 1 | Q129: =+Q130+1% -> 0.24
...

Sheet ocult
A9: I | C9: AUTOSEGUIMIENTO DEL TIEMPO DEDICADO
C10: DÍA | D10: viajes | F10: reuniones | H10: oficina | J10: otras tareas | L10: VENTAS | N10: TOTAL | P10: VENTAS
D11: HORAS | E11: ACUM | F11: =D11 -> HORAS | G11: =E11 -> ACUM | H11: =F11 -> HORAS | I11: =G11 -> ACUM | J11: =H11 -> HORAS | K11: =I11 -> ACUM | L11: =J11 -> HORAS | M11: =K11 -> ACUM | N11: DÍA | O11: ACUM | P11: % DEDICADO
C12: 1 | D12: =TIEMPO!D13 -> 0 | E12: =+D12 -> 0 | F12: =TIEMPO!F13 -> 1 | G12: =+F12 -> 1 | H12: =TIEMPO!H13 -> 2 | I12: =+H12 -> 2 | J12: =TIEMPO!J13 -> 1 | K12: =+J12 -> 1 | L12: =TIEMPO!L13 -> 5 | M12: =+L12 -> 5 | N12: =+L12+J12+H12+F12+D12 -> 9 | O12: =+M12+K12+I12+G12+E12 -> 9 | P12: =IF(O12=0,0,M12/O12) -> 0.55555556
C13: 2 | D13: =TIEMPO!D14 -> 3 | E13: =+D13+E12 -> 3 | F13: =TIEMPO!F14 -> 1 | G13: =+F13+G12 -> 2 | H13: =TIEMPO!H14 -> 2 | I13: =+H13+I12 -> 4 | J13: =TIEMPO!J14 -> 1 | K13: =+J13+K12 -> 2 | L13: =TIEMPO!L14 -> 4 | M13: =+L13+M12 -> 9 | N13: =+L13+J13+H13+F13+D13 -> 11 | O13: =+M13+K13+I13+G13+E13 -> 20
C14: 3 | D14: =TIEMPO!D15 -> 3 | E14: =+D14+E13 -> 6 | F14: =TIEMPO!F15 -> 1 | G14: =+F14+G13 -> 3 | H14: =TIEMPO!H15 -> 2 | I14: =+H14+I13 -> 6 | J14: =TIEMPO!J15 -> 1 | K14: =+J14+K13 -> 3 | L14: =TIEMPO!L15 -> 2 | M14: =+L14+M13 -> 11 | N14: =+L14+J14+H14+F14+D14 -> 9 | O14: =+M14+K14+I14+G14+E14 -> 29
C15: 4 | D15: =TIEMPO!D16 -> 0 | E15: =+D15+E14 -> 6 | F15: =TIEMPO!F16 -> 1 | G15: =+F15+G14 -> 4 | H15: =TIEMPO!H16 -> 2 | I15: =+H15+I14 -> 8 | J15: =TIEMPO!J16 -> 3 | K15: =+J15+K14 -> 6 | L15: =TIEMPO!L16 -> 4 | M15: =+L15+M14 -> 15 | N15: =+L15+J15+H15+F15+D15 -> 10 | O15: =+M15+K15+I15+G15+E15 -> 39
C16: 5 | D16: =TIEMPO!D17 -> 3 | E16: =+D16+E15 -> 9 | F16: =TIEMPO!F17 -> 1 | G16: =+F16+G15 -> 5 | H16: =TIEMPO!H17 -> 2 | I16: =+H16+I15 -> 10 | J16: =TIEMPO!J17 -> 1 | K16: =+J16+K15 -> 7 | L16: =TIEMPO!L17 -> 2 | M16: =+L16+M15 -> 17 | N16: =+L16+J16+H16+F16+D16 -> 9 | O16: =+M16+K16+I16+G16+E16 -> 48
C17: 6 | D17: =TIEMPO!D18 -> 3 | E17: =+D17+E16 -> 12 | F17: =TIEMPO!F18 -> 1 | G17: =+F17+G16 -> 6 | H17: =TIEMPO!H18 -> 2 | I17: =+H17+I16 -> 12 | J17: =TIEMPO!J18 -> 1 | K17: =+J17+K16 -> 8 | L17: =TIEMPO!L18 -> 3 | M17: =+L17+M16 -> 20 | N17: =+L17+J17+H17+F17+D17 -> 10 | O17: =+M17+K17+I17+G17+E17 -> 58
C18: 7 | D18: =TIEMPO!D19 -> 0 | E18: =+D18+E17 -> 12 | F18: =TIEMPO!F19 -> 0 | G18: =+F18+G17 -> 6 | H18: =TIEMPO!H19 -> 0 | I18: =+H18+I17 -> 12 | J18: =TIEMPO!J19 -> 0 | K18: =+J18+K17 -> 8 | L18: =TIEMPO!L19 -> 0 | M18: =+L18+M17 -> 20 | N18: =+L18+J18+H18+F18+D18 -> 0 | O18: =+M18+K18+I18+G18+E18 -> 58
C19: 8 | D19: =TIEMPO!D20 -> 0 | E19: =+D19+E18 -> 12 | F19: =TIEMPO!F20 -> 0 | G19: =+F19+G18 -> 6 | H19: =TIEMPO!H20 -> 0 | I19: =+H19+I18 -> 12 | J19: =TIEMPO!J20 -> 0 | K19: =+J19+K18 -> 8 | L19: =TIEMPO!L20 -> 0 | M19: =+L19+M18 -> 20 | N19: =+L19+J19+H19+F19+D19 -> 0 | O19: =+M19+K19+I19+G19+E19 -> 58
C20: 9 | D20: =TIEMPO!D21 -> 0 | E20: =+D20+E19 -> 12 | F20: =TIEMPO!F21 -> 0 | G20: =+F20+G19 -> 6 | H20: =TIEMPO!H21 -> 0 | I20: =+H20+I19 -> 12 | J20: =TIEMPO!J21 -> 0 | K20: =+J20+K19 -> 8 | L20: =TIEMPO!L21 -> 0 | M20: =+L20+M19 -> 20 | N20: =+L20+J20+H20+F20+D20 -> 0 | O20: =+M20+K20+I20+G20+E20 -> 58
C21: 10 | D21: =TIEMPO!D22 -> 0 | E21: =+D21+E20 -> 12 | F21: =TIEMPO!F22 -> 0 | G21: =+F21+G20 -> 6 | H21: =TIEMPO!H22 -> 0 | I21: =+H21+I20 -> 12 | J21: =TIEMPO!J22 -> 0 | K21: =+J21+K20 -> 8 | L21: =TIEMPO!L22 -> 0 | M21: =+L21+M20 -> 20 | N21: =+L21+J21+H21+F21+D21 -> 0 | O21: =+M21+K21+I21+G21+E21 -> 58
C22: 11 | D22: =TIEMPO!D23 -> 0 | E22: =+D22+E21 -> 12 | F22: =TIEMPO!F23 -> 0 | G22: =+F22+G21 -> 6 | H22: =TIEMPO!H23 -> 0 | I22: =+H22+I21 -> 12 | J22: =TIEMPO!J23 -> 0 | K22: =+J22+K21 -> 8 | L22: =TIEMPO!L23 -> 0 | M22: =+L22+M21 -> 20 | N22: =+L22+J22+H22+F22+D22 -> 0 | O22: =+M22+K22+I22+G22+E22 -> 58
C23: 12 | D23: =TIEMPO!D24 -> 0 | E23: =+D23+E22 -> 12 | F23: =TIEMPO!F24 -> 0 | G23: =+F23+G22 -> 6 | H23: =TIEMPO!H24 -> 0 | I23: =+H23+I22 -> 12 | J23: =TIEMPO!J24 -> 0 | K23: =+J23+K22 -> 8 | L23: =TIEMPO!L24 -> 0 | M23: =+L23+M22 -> 20 | N23: =+L23+J23+H23+F23+D23 -> 0 | O23: =+M23+K23+I23+G23+E23 -> 58
C24: 13 | D24: =TIEMPO!D25 -> 0 | E24: =+D24+E23 -> 12 | F24: =TIEMPO!F25 -> 0 | G24: =+F24+G23 -> 6 | H24: =TIEMPO!H25 -> 0 | I24: =+H24+I23 -> 12 | J24: =TIEMPO!J25 -> 0 | K24: =+J24+K23 -> 8 | L24: =TIEMPO!L25 -> 0 | M24: =+L24+M23 -> 20 | N24: =+L24+J24+H24+F24+D24 -> 0 | O24: =+M24+K24+I24+G24+E24 -> 58
... C42: 31 | D42: =TIEMPO!D43 -> 0 | E42: =+D42+E41 -> 12 | F42: =TIEMPO!F43 -> 0 | G42: =+F42+G41 -> 6 | H42: =TIEMPO!H43 -> 0 | I42: =+H42+I41 -> 12 | J42: =TIEMPO!J43 -> 0 | K42: =+J42+K41 -> 8 | L42: =TIEMPO!L43 -> 0 | M42: =+L42+M41 -> 20 | N42: =+L42+J42+H42+F42+D42 -> 0 | O42: =+M42+K42+I42+G42+E42 -> 58
D43: =SUM(TIEMPO!D13:D43) -> 12 | E43: =+IF(TIEMPO!$K$9=0,0,D43/TIEMPO!$K$9) -> 0.20689655 | F43: =SUM(TIEMPO!F13:F43) -> 6 | G43: =+IF(TIEMPO!$K$9=0,0,F43/TIEMPO!$K$9) -> 0.10344828 | H43: =SUM(TIEMPO!H13:H43) -> 12 | I43: =+IF(TIEMPO!$K$9=0,0,H43/TIEMPO!$K$9) -> 0.20689655 | J43: =SUM(TIEMPO!J13:J43) -> 8 | K43: =+IF(TIEMPO!$K$9=0,0,J43/TIEMPO!$K$9) -> 0.13793103 | L43: =SUM(TIEMPO!L13:L43) -> 20 | M43: =+IF(TIEMPO!$K$9=0,0,L43/TIEMPO!$K$9) -> 0.34482759
C46: Columna1
C47: ENERO
C48: FEBRERO
C49: MARZO
C50: ABRIL
C51: MAYO
C52: JUNIO
C53: JULIO
C54: AGOSTO
C55: SEPTIEMBRE
C56: OCTUBRE
C57: NOVIEMBRE
C58: DICIEMBRE
